BEGIN:VCALENDAR
VERSION:2.0
PRODID:-//AI4D Africa - ECPv6.15.13.1//NONSGML v1.0//EN
CALSCALE:GREGORIAN
METHOD:PUBLISH
X-WR-CALNAME:AI4D Africa
X-ORIGINAL-URL:https://ai4d.acts-net.org
X-WR-CALDESC:Events for AI4D Africa
REFRESH-INTERVAL;VALUE=DURATION:PT1H
X-Robots-Tag:noindex
X-PUBLISHED-TTL:PT1H
BEGIN:VTIMEZONE
TZID:Africa/Nairobi
BEGIN:STANDARD
TZOFFSETFROM:+0300
TZOFFSETTO:+0300
TZNAME:EAT
DTSTART:20240101T000000
END:STANDARD
END:VTIMEZONE
BEGIN:VEVENT
DTSTART;TZID=Africa/Nairobi:20250725T150000
DTEND;TZID=Africa/Nairobi:20250725T170000
DTSTAMP:20260423T192056
CREATED:20250714T063936Z
LAST-MODIFIED:20250714T064308Z
UID:3072-1753455600-1753462800@ai4d.acts-net.org
SUMMARY:Register for Our Webinar: AI4D Innovation Scaling Challenge “Advancing Responsive and Inclusive AI Innovations for Sustainable Development in Africa”
DESCRIPTION:This webinar is designed to provide applicants with critical information about the AI4D Innovation Scaling Challenge\, which aims to support and scale responsible\, inclusive\, and sustainable AI innovations addressing development challenges across Africa. The webinar introduces the AI4D Innovation Scaling Challenge\, focusing on how it fosters African-led AI solutions to tackle issues such as Gender Equality\, Disability and Inclusion\, Education & Skills Development\, Agriculture & Food Security\, Climate Action & Environmental Sustainability aligning with the Sustainable Development Goals (SDGs). It emphasizes responsible AI ensuring innovations are ethical\, inclusive\, rights-based\, and sustainable. \nImportant Highlights: \nThe webinar is tailored for potential applicants\, including researchers\, innovators\, startups\, and organizations in Africa working on scalable AI solutions. It covers: \n\nOverview of the AI4D program\, its mission to improve quality of life through responsible AI\, and its evolution\nInnovation Scaling Challenge: highlights details on eligibility\, funding opportunities\, and focus areas like gender equality\, disability and inclusion\, Education and Skills development\, Agriculture and food Security\, Climate Action and Environmental Sustainability\nApplication guidance: Practical advice on the application process\, including deadlines\, requirements\, and alignment with responsible AI principles.\nInsight into how the challenge supports scaling impactful AI solutions\nAn interactive Q&A Session: A segment where attendees can engage with AI4D representatives to clarify doubts and gain deeper understanding.\n\n\nEvent Details: \nDate: 25 July 2025 \nTime: At 3:00 PM EAT / 2:00 PM CAT / 12:00 PM GMT / 1:00 PM WAT \nDuration: 2hrs \nVenue: Online: Insert Registration Link here \nDon’t miss out – reserve your spot today! \nWe look forward to connecting with you and supporting the next generation of inclusive AI
URL:https://ai4d.acts-net.org/event/ai4d-innovation-scaling-challenge-advancing-responsive-and-inclusive-ai-innovations-for-sustainable-development-in-africa/
LOCATION:Online via Zoom\, Kenya
CATEGORIES:Upcoming events
END:VEVENT
END:VCALENDAR